BEGIN:VCALENDAR
VERSION:2.0
PRODID:-//Benona Township - ECPv6.15.17.1//NONSGML v1.0//EN
CALSCALE:GREGORIAN
METHOD:PUBLISH
X-WR-CALNAME:Benona Township
X-ORIGINAL-URL:https://benonatownship.org
X-WR-CALDESC:Events for Benona Township
REFRESH-INTERVAL;VALUE=DURATION:PT1H
X-Robots-Tag:noindex
X-PUBLISHED-TTL:PT1H
BEGIN:VTIMEZONE
TZID:America/Chicago
BEGIN:DAYLIGHT
TZOFFSETFROM:-0600
TZOFFSETTO:-0500
TZNAME:CDT
DTSTART:20230312T080000
END:DAYLIGHT
BEGIN:STANDARD
TZOFFSETFROM:-0500
TZOFFSETTO:-0600
TZNAME:CST
DTSTART:20231105T070000
END:STANDARD
BEGIN:DAYLIGHT
TZOFFSETFROM:-0600
TZOFFSETTO:-0500
TZNAME:CDT
DTSTART:20240310T080000
END:DAYLIGHT
BEGIN:STANDARD
TZOFFSETFROM:-0500
TZOFFSETTO:-0600
TZNAME:CST
DTSTART:20241103T070000
END:STANDARD
BEGIN:DAYLIGHT
TZOFFSETFROM:-0600
TZOFFSETTO:-0500
TZNAME:CDT
DTSTART:20250309T080000
END:DAYLIGHT
BEGIN:STANDARD
TZOFFSETFROM:-0500
TZOFFSETTO:-0600
TZNAME:CST
DTSTART:20251102T070000
END:STANDARD
END:VTIMEZONE
BEGIN:VEVENT
DTSTART;TZID=America/Chicago:20240401T120000
DTEND;TZID=America/Chicago:20240401T153000
DTSTAMP:20260421T194250
CREATED:20240401T151954Z
LAST-MODIFIED:20240401T151954Z
UID:1060-1711972800-1711985400@benonatownship.org
SUMMARY:Assessor Office Hours
DESCRIPTION:
URL:https://benonatownship.org/event/assessor-office-hours-9/
CATEGORIES:Other
END:VEVENT
BEGIN:VEVENT
DTSTART;TZID=America/Chicago:20240402T103000
DTEND;TZID=America/Chicago:20240402T123000
DTSTAMP:20260421T194250
CREATED:20240401T152314Z
LAST-MODIFIED:20240401T152314Z
UID:1083-1712053800-1712061000@benonatownship.org
SUMMARY:Clerk Office Hours
DESCRIPTION:
URL:https://benonatownship.org/event/clerk-office-hours-23/
CATEGORIES:Other
END:VEVENT
BEGIN:VEVENT
DTSTART;TZID=America/Chicago:20240403T090000
DTEND;TZID=America/Chicago:20240403T120000
DTSTAMP:20260421T194250
CREATED:20240401T152703Z
LAST-MODIFIED:20240401T152703Z
UID:1088-1712134800-1712145600@benonatownship.org
SUMMARY:Treasurer Office Hours
DESCRIPTION:
URL:https://benonatownship.org/event/treasurer-office-hours-24/2024-04-03/
CATEGORIES:Other
END:VEVENT
BEGIN:VEVENT
DTSTART;TZID=America/Chicago:20240403T100000
DTEND;TZID=America/Chicago:20240403T140000
DTSTAMP:20260421T194250
CREATED:20240401T152747Z
LAST-MODIFIED:20240401T152747Z
UID:1093-1712138400-1712152800@benonatownship.org
SUMMARY:Zoning Office Hours
DESCRIPTION:
URL:https://benonatownship.org/event/zoning-office-hours-9/2024-04-03/
CATEGORIES:Other
END:VEVENT
BEGIN:VEVENT
DTSTART;TZID=America/Chicago:20240404T103000
DTEND;TZID=America/Chicago:20240404T123000
DTSTAMP:20260421T194250
CREATED:20240401T152854Z
LAST-MODIFIED:20240401T152854Z
UID:1098-1712226600-1712233800@benonatownship.org
SUMMARY:Clerk Office Hours
DESCRIPTION:
URL:https://benonatownship.org/event/clerk-office-hours-28/2024-04-04/
CATEGORIES:Other
END:VEVENT
BEGIN:VEVENT
DTSTART;TZID=America/Chicago:20240408T090000
DTEND;TZID=America/Chicago:20240408T120000
DTSTAMP:20260421T194250
CREATED:20240401T152146Z
LAST-MODIFIED:20240401T152146Z
UID:1072-1712566800-1712577600@benonatownship.org
SUMMARY:Treasurer Office Hours
DESCRIPTION:
URL:https://benonatownship.org/event/treasurer-office-hours-23/2024-04-08/
CATEGORIES:Other
END:VEVENT
BEGIN:VEVENT
DTSTART;TZID=America/Chicago:20240408T093000
DTEND;TZID=America/Chicago:20240408T153000
DTSTAMP:20260421T194250
CREATED:20240401T152048Z
LAST-MODIFIED:20240401T152048Z
UID:1061-1712568600-1712590200@benonatownship.org
SUMMARY:Assessor Office Hours
DESCRIPTION:
URL:https://benonatownship.org/event/assessor-office-hours-10/2024-04-08/
CATEGORIES:Other
END:VEVENT
BEGIN:VEVENT
DTSTART;TZID=America/Chicago:20240409T103000
DTEND;TZID=America/Chicago:20240409T123000
DTSTAMP:20260421T194250
CREATED:20240401T152405Z
LAST-MODIFIED:20240401T152405Z
UID:1084-1712658600-1712665800@benonatownship.org
SUMMARY:Clerk Office Hours
DESCRIPTION:
URL:https://benonatownship.org/event/clerk-office-hours-24/
CATEGORIES:Other
END:VEVENT
BEGIN:VEVENT
DTSTART;TZID=America/Chicago:20240416T103000
DTEND;TZID=America/Chicago:20240416T123000
DTSTAMP:20260421T194250
CREATED:20240401T152434Z
LAST-MODIFIED:20240401T152434Z
UID:1085-1713263400-1713270600@benonatownship.org
SUMMARY:Clerk Office Hours
DESCRIPTION:
URL:https://benonatownship.org/event/clerk-office-hours-25/
CATEGORIES:Other
END:VEVENT
BEGIN:VEVENT
DTSTART;TZID=America/Chicago:20240418T190000
DTEND;TZID=America/Chicago:20240418T200000
DTSTAMP:20260421T194250
CREATED:20240401T153033Z
LAST-MODIFIED:20240401T153033Z
UID:1103-1713466800-1713470400@benonatownship.org
SUMMARY:Zoning Board of Appeals
DESCRIPTION:
URL:https://benonatownship.org/event/zoning-board-of-appeals-2/
CATEGORIES:Other
END:VEVENT
BEGIN:VEVENT
DTSTART;TZID=America/Chicago:20240422T090000
DTEND;TZID=America/Chicago:20240422T120000
DTSTAMP:20260421T194250
CREATED:20240401T152146Z
LAST-MODIFIED:20240401T152146Z
UID:1074-1713776400-1713787200@benonatownship.org
SUMMARY:Treasurer Office Hours
DESCRIPTION:
URL:https://benonatownship.org/event/treasurer-office-hours-23/2024-04-22/
CATEGORIES:Other
END:VEVENT
BEGIN:VEVENT
DTSTART;TZID=America/Chicago:20240422T093000
DTEND;TZID=America/Chicago:20240422T153000
DTSTAMP:20260421T194250
CREATED:20240401T152048Z
LAST-MODIFIED:20240401T152048Z
UID:1063-1713778200-1713799800@benonatownship.org
SUMMARY:Assessor Office Hours
DESCRIPTION:
URL:https://benonatownship.org/event/assessor-office-hours-10/2024-04-22/
CATEGORIES:Other
END:VEVENT
BEGIN:VEVENT
DTSTART;TZID=America/Chicago:20240422T190000
DTEND;TZID=America/Chicago:20240422T210000
DTSTAMP:20260421T194250
CREATED:20230906T205832Z
LAST-MODIFIED:20230906T205832Z
UID:871-1713812400-1713819600@benonatownship.org
SUMMARY:Township Board Meeting
DESCRIPTION:
URL:https://benonatownship.org/event/township-board-meeting-4/2024-04-22/
CATEGORIES:Other
END:VEVENT
BEGIN:VEVENT
DTSTART;TZID=America/Chicago:20240423T103000
DTEND;TZID=America/Chicago:20240423T123000
DTSTAMP:20260421T194250
CREATED:20240401T152502Z
LAST-MODIFIED:20240401T152502Z
UID:1086-1713868200-1713875400@benonatownship.org
SUMMARY:Clerk Office Hours
DESCRIPTION:
URL:https://benonatownship.org/event/clerk-office-hours-26/
CATEGORIES:Other
END:VEVENT
BEGIN:VEVENT
DTSTART;TZID=America/Chicago:20240424T090000
DTEND;TZID=America/Chicago:20240424T120000
DTSTAMP:20260421T194250
CREATED:20240401T152703Z
LAST-MODIFIED:20240401T152703Z
UID:1091-1713949200-1713960000@benonatownship.org
SUMMARY:Treasurer Office Hours
DESCRIPTION:
URL:https://benonatownship.org/event/treasurer-office-hours-24/2024-04-24/
CATEGORIES:Other
END:VEVENT
BEGIN:VEVENT
DTSTART;TZID=America/Chicago:20240424T100000
DTEND;TZID=America/Chicago:20240424T140000
DTSTAMP:20260421T194250
CREATED:20240401T152747Z
LAST-MODIFIED:20240401T152747Z
UID:1096-1713952800-1713967200@benonatownship.org
SUMMARY:Zoning Office Hours
DESCRIPTION:
URL:https://benonatownship.org/event/zoning-office-hours-9/2024-04-24/
CATEGORIES:Other
END:VEVENT
BEGIN:VEVENT
DTSTART;TZID=America/Chicago:20240425T103000
DTEND;TZID=America/Chicago:20240425T123000
DTSTAMP:20260421T194250
CREATED:20240401T152854Z
LAST-MODIFIED:20240401T152854Z
UID:1101-1714041000-1714048200@benonatownship.org
SUMMARY:Clerk Office Hours
DESCRIPTION:
URL:https://benonatownship.org/event/clerk-office-hours-28/2024-04-25/
CATEGORIES:Other
END:VEVENT
BEGIN:VEVENT
DTSTART;VALUE=DATE:20240426
DTEND;VALUE=DATE:20240427
DTSTAMP:20260421T194250
CREATED:20240201T173726Z
LAST-MODIFIED:20240201T173726Z
UID:1016-1714089600-1714175999@benonatownship.org
SUMMARY:Township Offices Closed
DESCRIPTION:
URL:https://benonatownship.org/event/township-offices-closed-2/2024-04-26/
CATEGORIES:Other
END:VEVENT
BEGIN:VEVENT
DTSTART;TZID=America/Chicago:20240429T090000
DTEND;TZID=America/Chicago:20240429T120000
DTSTAMP:20260421T194250
CREATED:20240401T152146Z
LAST-MODIFIED:20240401T152146Z
UID:1075-1714381200-1714392000@benonatownship.org
SUMMARY:Treasurer Office Hours
DESCRIPTION:
URL:https://benonatownship.org/event/treasurer-office-hours-23/2024-04-29/
CATEGORIES:Other
END:VEVENT
BEGIN:VEVENT
DTSTART;TZID=America/Chicago:20240429T093000
DTEND;TZID=America/Chicago:20240429T153000
DTSTAMP:20260421T194250
CREATED:20240401T152048Z
LAST-MODIFIED:20240401T152048Z
UID:1064-1714383000-1714404600@benonatownship.org
SUMMARY:Assessor Office Hours
DESCRIPTION:
URL:https://benonatownship.org/event/assessor-office-hours-10/2024-04-29/
CATEGORIES:Other
END:VEVENT
BEGIN:VEVENT
DTSTART;TZID=America/Chicago:20240430T113000
DTEND;TZID=America/Chicago:20240430T133000
DTSTAMP:20260421T194250
CREATED:20240401T152534Z
LAST-MODIFIED:20240401T152534Z
UID:1087-1714476600-1714483800@benonatownship.org
SUMMARY:Clerk Office Hours
DESCRIPTION:
URL:https://benonatownship.org/event/clerk-office-hours-27/
CATEGORIES:Other
END:VEVENT
END:VCALENDAR