BEGIN:VCALENDAR
VERSION:2.0
PRODID:-//Benona Township - ECPv6.15.17.1//NONSGML v1.0//EN
CALSCALE:GREGORIAN
METHOD:PUBLISH
X-WR-CALNAME:Benona Township
X-ORIGINAL-URL:https://benonatownship.org
X-WR-CALDESC:Events for Benona Township
REFRESH-INTERVAL;VALUE=DURATION:PT1H
X-Robots-Tag:noindex
X-PUBLISHED-TTL:PT1H
BEGIN:VTIMEZONE
TZID:America/Chicago
BEGIN:DAYLIGHT
TZOFFSETFROM:-0600
TZOFFSETTO:-0500
TZNAME:CDT
DTSTART:20240310T080000
END:DAYLIGHT
BEGIN:STANDARD
TZOFFSETFROM:-0500
TZOFFSETTO:-0600
TZNAME:CST
DTSTART:20241103T070000
END:STANDARD
BEGIN:DAYLIGHT
TZOFFSETFROM:-0600
TZOFFSETTO:-0500
TZNAME:CDT
DTSTART:20250309T080000
END:DAYLIGHT
BEGIN:STANDARD
TZOFFSETFROM:-0500
TZOFFSETTO:-0600
TZNAME:CST
DTSTART:20251102T070000
END:STANDARD
BEGIN:DAYLIGHT
TZOFFSETFROM:-0600
TZOFFSETTO:-0500
TZNAME:CDT
DTSTART:20260308T080000
END:DAYLIGHT
BEGIN:STANDARD
TZOFFSETFROM:-0500
TZOFFSETTO:-0600
TZNAME:CST
DTSTART:20261101T070000
END:STANDARD
END:VTIMEZONE
BEGIN:VEVENT
DTSTART;TZID=America/Chicago:20250908T090000
DTEND;TZID=America/Chicago:20250908T120000
DTSTAMP:20260420T170150
CREATED:20230906T205232Z
LAST-MODIFIED:20230906T205232Z
UID:882-1757322000-1757332800@benonatownship.org
SUMMARY:Treasurer Office Hours
DESCRIPTION:
URL:https://benonatownship.org/event/treasurer-office-hours-7/2025-09-08/
CATEGORIES:Other
END:VEVENT
BEGIN:VEVENT
DTSTART;TZID=America/Chicago:20250908T093000
DTEND;TZID=America/Chicago:20250908T153000
DTSTAMP:20260420T170150
CREATED:20230906T205427Z
LAST-MODIFIED:20230906T205427Z
UID:883-1757323800-1757345400@benonatownship.org
SUMMARY:Assessor Office Hours
DESCRIPTION:
URL:https://benonatownship.org/event/assessor-office-hours-4/2025-09-08/
CATEGORIES:Other
END:VEVENT
BEGIN:VEVENT
DTSTART;TZID=America/Chicago:20250910T090000
DTEND;TZID=America/Chicago:20250910T120000
DTSTAMP:20260420T170150
CREATED:20230906T205232Z
LAST-MODIFIED:20230906T205232Z
UID:884-1757494800-1757505600@benonatownship.org
SUMMARY:Treasurer Office Hours
DESCRIPTION:
URL:https://benonatownship.org/event/treasurer-office-hours-7/2025-09-10/
CATEGORIES:Other
END:VEVENT
BEGIN:VEVENT
DTSTART;TZID=America/Chicago:20250911T193000
DTEND;TZID=America/Chicago:20250911T203000
DTSTAMP:20260420T170150
CREATED:20230906T205607Z
LAST-MODIFIED:20230906T205607Z
UID:885-1757619000-1757622600@benonatownship.org
SUMMARY:Planning Commission Meeting
DESCRIPTION:
URL:https://benonatownship.org/event/planning-commission-meeting-3/2025-09-11/
CATEGORIES:Other
END:VEVENT
BEGIN:VEVENT
DTSTART;TZID=America/Chicago:20250922T190000
DTEND;TZID=America/Chicago:20250922T210000
DTSTAMP:20260420T170150
CREATED:20230906T205832Z
LAST-MODIFIED:20230906T205832Z
UID:892-1758567600-1758574800@benonatownship.org
SUMMARY:Township Board Meeting
DESCRIPTION:
URL:https://benonatownship.org/event/township-board-meeting-4/2025-09-22/
CATEGORIES:Other
END:VEVENT
END:VCALENDAR